BEGIN:VCALENDAR
VERSION:2.0
PRODID:-//Squarespace Inc/Squarespace 6//v6//EN
BEGIN:VEVENT
UID:5e61c66858e141500c3322a7@squarespace.com
DTSTAMP:20200314T012212Z
DTSTART:20200405T080000Z
DTEND:20200405T103000Z
SUMMARY:DEBUGSTATION
END:VEVENT
END:VCALENDAR
