BEGIN:VCALENDAR
VERSION:2.0
PRODID:-//Squarespace Inc/Squarespace 6//v6//EN
BEGIN:VEVENT
UID:5e619db60ef3c930cfeb2796@squarespace.com
DTSTAMP:20200314T012351Z
DTSTART:20200322T070000Z
DTEND:20200322T090000Z
SUMMARY:VERMOUTH DINNER
END:VEVENT
END:VCALENDAR
